BEGIN:VCALENDAR
VERSION:2.0
PRODID:-//barts.org//eCatholic//EN
X-WR-TIMEZONE:LocalTZ
BEGIN:VTIMEZONE
TZID:LocalTZ
X-LIC-LOCATION:LocalTZ
BEGIN:DAYLIGHT
TZOFFSETFROM:-0800
TZOFFSETTO:-0700
TZNAME:LocalTZ
DTSTART:19700308T020000
RRULE:FREQ=YEARLY;BYMONTH=3;BYDAY=2SU
END:DAYLIGHT
BEGIN:STANDARD
TZOFFSETFROM:-0700
TZOFFSETTO:-0800
TZNAME:LocalTZ
DTSTART:19701101T020000
RRULE:FREQ=YEARLY;BYMONTH=11;BYDAY=1SU
END:STANDARD
END:VTIMEZONE
BEGIN:VEVENT
UID:67533@barts.org
DTSTAMP:20260421T195007Z
DTSTART:20260422T074500
DTEND:20260422T090000
RRULE:FREQ=WEEKLY;BYDAY=WE
EXDATE:20231213T074500
SUMMARY:Men's Prayer Group
DESCRIPTION:Saint Bart's Men's Prayer Group calls all men to prayer\, not 
 only as individuals\, but together. God needs all of His soldiers to take 
 their place in the matching army of the Lord. The Men’s Prayer Group is a 
 series of intentional and committed prayer efforts that focus on the heave
 nly realm for men and their families\, friends\, neighborhoods\, churches\
 , communities\, and the body of Christ. Please join us in prayer\, every W
 ednesday at 7:45 am in the Media Center! All are welcome!
END:VEVENT
BEGIN:VEVENT
UID:67539@barts.org
DTSTAMP:20260421T195007Z
DTSTART:20260424T080000
DTEND:20260424T090000
RRULE:FREQ=WEEKLY;BYDAY=FR
EXDATE:20150403T080000,20151225T080000
SUMMARY:Women's Prayer Group
DESCRIPTION:Saint Bart's Women's Prayer Group is organized to bring people
  together though Christ and membership in His family. As women we want to 
 have fellowship while growing closer to Christ and encourage spiritual gro
 wth through praying together. Please come join our next prayer meeting\, e
 very Friday at 8:00 am in Meeting Room A!
END:VEVENT
BEGIN:VEVENT
UID:67684@barts.org
DTSTAMP:20260421T195007Z
DTSTART;VALUE=DATE:20260501
DTEND;VALUE=DATE:20260502
RRULE:FREQ=MONTHLY;BYDAY=FR;BYSETPOS=1
EXDATE:20150403T000000,20150605T000000,20160304T000000
SUMMARY:First Friday Eucharistic Adoration
DESCRIPTION:Eucharistic Adoration is an act of thanksgiving and worship to
  Jesus Christ\, Lord and Savior\, truly present in the Holy Eucharist.  In
  every Mass the Catholic faith teaches that the bread and wine are changed
  into the Body and Blood of Jesus Christ at the Consecration. Eucharistic 
 Adoration begins following Friday 8 a.m. Mass and concludes at 8:00 p.m.
END:VEVENT
BEGIN:VEVENT
UID:462852@barts.org
DTSTAMP:20260421T195007Z
DTSTART:20260422T073000
DTEND:20260422T090000
RRULE:FREQ=MONTHLY;BYDAY=WE;BYSETPOS=4
SUMMARY:Second Harvest (Brown Bag)
DESCRIPTION:Without the Brown Bag Program\, many seniors in San Mateo and 
 Santa Clara counties would be extremely isolated and at increased risk for
  undernourishment and illness. Buying nutritious food\, is often last on t
 heir list. Every fourth Wednesday of the month\, Saint Bart's preps Brown 
 Bags to distribute food to our peers. Come join us!
END:VEVENT
BEGIN:VEVENT
UID:1876107@barts.org
DTSTAMP:20260421T195007Z
DTSTART:20260505T180000
DTEND:20260505T200000
RRULE:FREQ=MONTHLY;BYDAY=TU;BYSETPOS=1
SUMMARY:Pastoral Council Meeting
END:VEVENT
BEGIN:VEVENT
UID:1876130@barts.org
DTSTAMP:20260421T195007Z
DTSTART:20260509T100000
DTEND:20260509T110000
RRULE:FREQ=MONTHLY;BYDAY=SA;BYSETPOS=2
SUMMARY:Baptism Class
END:VEVENT
BEGIN:VEVENT
UID:1876143@barts.org
DTSTAMP:20260421T195007Z
DTSTART:20260503T083000
DTEND:20260503T103000
RRULE:FREQ=MONTHLY;BYDAY=SU;BYSETPOS=1
SUMMARY:Sandwich Sunday
END:VEVENT
BEGIN:VEVENT
UID:1937333@barts.org
DTSTAMP:20260421T195007Z
DTSTART:20260422T190000
DTEND:20260422T203000
RRULE:FREQ=WEEKLY;BYDAY=WE
EXDATE:20231213T190000,20231213T190000
SUMMARY:Choir Practice
END:VEVENT
END:VCALENDAR
